BEGIN:VCALENDAR
VERSION:2.0
PRODID:-//Chicago Executive Pilots Association - ECPv6.15.20//NONSGML v1.0//EN
CALSCALE:GREGORIAN
METHOD:PUBLISH
X-WR-CALNAME:Chicago Executive Pilots Association
X-ORIGINAL-URL:https://pwkpilots.org
X-WR-CALDESC:Events for Chicago Executive Pilots Association
REFRESH-INTERVAL;VALUE=DURATION:PT1H
X-Robots-Tag:noindex
X-PUBLISHED-TTL:PT1H
BEGIN:VTIMEZONE
TZID:America/Chicago
BEGIN:DAYLIGHT
TZOFFSETFROM:-0600
TZOFFSETTO:-0500
TZNAME:CDT
DTSTART:20240310T080000
END:DAYLIGHT
BEGIN:STANDARD
TZOFFSETFROM:-0500
TZOFFSETTO:-0600
TZNAME:CST
DTSTART:20241103T070000
END:STANDARD
BEGIN:DAYLIGHT
TZOFFSETFROM:-0600
TZOFFSETTO:-0500
TZNAME:CDT
DTSTART:20250309T080000
END:DAYLIGHT
BEGIN:STANDARD
TZOFFSETFROM:-0500
TZOFFSETTO:-0600
TZNAME:CST
DTSTART:20251102T070000
END:STANDARD
BEGIN:DAYLIGHT
TZOFFSETFROM:-0600
TZOFFSETTO:-0500
TZNAME:CDT
DTSTART:20260308T080000
END:DAYLIGHT
BEGIN:STANDARD
TZOFFSETFROM:-0500
TZOFFSETTO:-0600
TZNAME:CST
DTSTART:20261101T070000
END:STANDARD
END:VTIMEZONE
BEGIN:VEVENT
DTSTART;TZID=America/Chicago:20250625T190000
DTEND;TZID=America/Chicago:20250625T203000
DTSTAMP:20260423T070954
CREATED:20250225T014754Z
LAST-MODIFIED:20250620T160307Z
UID:6039-1750878000-1750883400@pwkpilots.org
SUMMARY:It Was a Dark and Stormy Day - Jerrold Seckler - June Safety Meeting
DESCRIPTION:Two of the most hazardous threats to aircraft are thunderstorms and icing. Dr. Seckler discussed the risk and management of icing last January. Now\, he will take on the beast of unfathomable energy\, thunderstorms. One thunderstorm was measured at about 1.3 billion volts with a charging time of only 6 minutes. Jerry will explain how they form\, forecasting where they’ll be\, and how to avoid them in flight. \nSpeaker Bio: \nJerrold Seckler has been flying for over 58 years. During that time\, he has amassed over 8\,000 hours in various General Aviation aircraft and personally flown a GA aircraft on all seven continents. Jerry holds ATP\, CFII\, AGI\, and IGI certificates. He has been named a Master Ground Instructor four consecutive times by the National Association of Flight Instructors. \nIn a previous life\, Seckler was a Urologic Surgeon and an FAA Aviation Medical Examiner. \nIn 2017\, Jerry received the FAA’s Wright Brothers Master Pilot Award for 50 years of safe flying. Seckler has almost 4\,000 hours on his Cirrus SR22.
URL:https://pwkpilots.org/event/202506-safety-meeting/
LOCATION:Harper College\, 1375 S Wolf Road\, Prospect Heights\, IL\, 60070\, United States
CATEGORIES:Safety Meetings
ORGANIZER;CN="Michael Baraz":MAILTO:Michael@Baraz.us
END:VEVENT
END:VCALENDAR