BEGIN:VCALENDAR
VERSION:2.0
PRODID:-//Chicago Executive Pilots Association - ECPv6.15.20//NONSGML v1.0//EN
CALSCALE:GREGORIAN
METHOD:PUBLISH
X-ORIGINAL-URL:https://pwkpilots.org
X-WR-CALDESC:Events for Chicago Executive Pilots Association
REFRESH-INTERVAL;VALUE=DURATION:PT1H
X-Robots-Tag:noindex
X-PUBLISHED-TTL:PT1H
BEGIN:VTIMEZONE
TZID:America/Chicago
BEGIN:DAYLIGHT
TZOFFSETFROM:-0600
TZOFFSETTO:-0500
TZNAME:CDT
DTSTART:20240310T080000
END:DAYLIGHT
BEGIN:STANDARD
TZOFFSETFROM:-0500
TZOFFSETTO:-0600
TZNAME:CST
DTSTART:20241103T070000
END:STANDARD
BEGIN:DAYLIGHT
TZOFFSETFROM:-0600
TZOFFSETTO:-0500
TZNAME:CDT
DTSTART:20250309T080000
END:DAYLIGHT
BEGIN:STANDARD
TZOFFSETFROM:-0500
TZOFFSETTO:-0600
TZNAME:CST
DTSTART:20251102T070000
END:STANDARD
BEGIN:DAYLIGHT
TZOFFSETFROM:-0600
TZOFFSETTO:-0500
TZNAME:CDT
DTSTART:20260308T080000
END:DAYLIGHT
BEGIN:STANDARD
TZOFFSETFROM:-0500
TZOFFSETTO:-0600
TZNAME:CST
DTSTART:20261101T070000
END:STANDARD
END:VTIMEZONE
BEGIN:VEVENT
DTSTART;TZID=America/Chicago:20250528T190000
DTEND;TZID=America/Chicago:20250528T203000
DTSTAMP:20260423T083115
CREATED:20250225T014653Z
LAST-MODIFIED:20250523T201309Z
UID:6037-1748458800-1748464200@pwkpilots.org
SUMMARY:May Safety Meeting - Collisions and Near-Misses are Happening\, What's Your Plan?
DESCRIPTION:Collisions and near misses are the talk everywhere. While a disproportionate number of aviation mishaps are done but us – light GA aircraft – this problem crosses the whole of aviation. Even the record holder for safest of virtually anything measured\, U.S. carriers are now showing up with way too many near-misses\, and for the first time in decades\, some actual mid-air collisions\, as well as many too many on the ground near misses. \nThis can be managed. It starts with you. Let’s talk about how we become the subject of the safety story and not the NTSB report. \nSpeaker Bio: \n \nMichael Baraz holds ATP\, CFI\, CFII\, AGI\, and IGI certificates. He is an active flight instructor and FAA Safety Lead Team Representative. He loves helping people achieve their flying goals and staying safe\, current\, and proficient by continuous training with WINGS credits. Michael has owned two Mooneys and currently owns a Rocket 305\, he enjoys flying fast. He is a member of several flying clubs and pilot associations around Chicago and is the treasurer and past-president of CEPA.
URL:https://pwkpilots.org/event/may-safety-meeting/
LOCATION:Harper College\, 1375 S Wolf Road\, Prospect Heights\, IL\, 60070\, United States
CATEGORIES:Safety Meetings
ORGANIZER;CN="Michael Baraz":MAILTO:Michael@Baraz.us
END:VEVENT
END:VCALENDAR