BEGIN:VCALENDAR
VERSION:2.0
PRODID:-//Chicago Executive Pilots Association - ECPv6.15.20//NONSGML v1.0//EN
CALSCALE:GREGORIAN
METHOD:PUBLISH
X-ORIGINAL-URL:https://pwkpilots.org
X-WR-CALDESC:Events for Chicago Executive Pilots Association
REFRESH-INTERVAL;VALUE=DURATION:PT1H
X-Robots-Tag:noindex
X-PUBLISHED-TTL:PT1H
BEGIN:VTIMEZONE
TZID:America/Chicago
BEGIN:DAYLIGHT
TZOFFSETFROM:-0600
TZOFFSETTO:-0500
TZNAME:CDT
DTSTART:20240310T080000
END:DAYLIGHT
BEGIN:STANDARD
TZOFFSETFROM:-0500
TZOFFSETTO:-0600
TZNAME:CST
DTSTART:20241103T070000
END:STANDARD
BEGIN:DAYLIGHT
TZOFFSETFROM:-0600
TZOFFSETTO:-0500
TZNAME:CDT
DTSTART:20250309T080000
END:DAYLIGHT
BEGIN:STANDARD
TZOFFSETFROM:-0500
TZOFFSETTO:-0600
TZNAME:CST
DTSTART:20251102T070000
END:STANDARD
BEGIN:DAYLIGHT
TZOFFSETFROM:-0600
TZOFFSETTO:-0500
TZNAME:CDT
DTSTART:20260308T080000
END:DAYLIGHT
BEGIN:STANDARD
TZOFFSETFROM:-0500
TZOFFSETTO:-0600
TZNAME:CST
DTSTART:20261101T070000
END:STANDARD
END:VTIMEZONE
BEGIN:VEVENT
DTSTART;TZID=America/Chicago:20250122T190000
DTEND;TZID=America/Chicago:20250122T190000
DTSTAMP:20260423T150225
CREATED:20241229T070619Z
LAST-MODIFIED:20241229T072031Z
UID:5947-1737572400-1737572400@pwkpilots.org
SUMMARY:Where Did Those Pesky Electrons Go? - CEPA Safety Seminar at PWK
DESCRIPTION:It was supposed to be a challenging but fun training flight… until it wasn’t! \nThat first approach worked out pretty well. Then you see your Aspen PFD tells you that you’re running on backup battery power! The nearest VFR is over an hour and a half away.  \nHow well do you know (and trust) your equipment? What do you do and when? \n \nSpeaker Bio \nMichael Baraz is ATP-rated and holds CFI and CFII certificates. He is an FAASafety Team Lead Representative helping people stay current and proficient by encouraging continuous training with WINGS achievements. Michael has owned two Mooneys\, currently has a Rocket 305\, and enjoys flying all kinds of planes. He is a member of various flying clubs and pilot associations around Chicago and is currently the treasurer of CEPA. 
URL:https://pwkpilots.org/event/electrical-failure-cepa-safety-seminar-at-pwk/
LOCATION:Harper College\, 1375 S Wolf Road\, Prospect Heights\, IL\, 60070\, United States
CATEGORIES:IMC Club Meetings,Safety Meetings
ORGANIZER;CN="Michael Baraz":MAILTO:Michael@Baraz.us
END:VEVENT
BEGIN:VEVENT
DTSTART;TZID=America/Chicago:20250125T080000
DTEND;TZID=America/Chicago:20250125T160000
DTSTAMP:20260423T150225
CREATED:20231101T150418Z
LAST-MODIFIED:20250123T173627Z
UID:5214-1737792000-1737820800@pwkpilots.org
SUMMARY:Aviation Expo - Chicago Area 99s
DESCRIPTION:Highlights: \n\nIFR and VFR programs\nFlying companion course\nWINGS credits will be available\nLunch available on site\, and group discount rate for rooms at the hotel\n\n\n\n\nTime\nSession\nPresenter\nTrack\n\n\n08:00-08:30\nOpening remarks\nMadeleine Monaco\n \n\n\n08:45-09:45\nStructural Ice Gives Me Shivers\nJerrold Seckler\nVFR/IFR\n\n\n10:00-12:00\nA Relaxed IFR Pilot is a Playwright (with break)\nMichael Baraz\nIFR\n\n\n10:00-10:55\nHow to Make an Exquisite Landing EVERY Time\nMordecai Levin\nVFR\n\n\n11:00-12:00\nYou Earned Your Private Pilot Certificate\, What’s Next?\nMarc Epner\nVFR\n\n\n12:00-13:30\nLunch\n \n \n\n\n13:30-14:55\n“y tho” ATC Practices Explained\nEddie Trujillo\nIFR\n\n\n13:30-14:55\nAircraft Systems and Problem-Solving Malfunctions\nJoe Standley\nVFR\n\n\n15:00-16:00\nAll Things Medical Through the Eyes of an AME\nGreg Ostrom\nIFR\n\n\n15:00-16:00\nHere Be Dragons – Adding Context to VFR Charts\nEddie Trujillo\nVFR\n\n\n\nClick here for more information about WINGS credits
URL:https://pwkpilots.org/event/aviation-expo-chicago-area-99s/
LOCATION:Renaissance Suites Hotel Glenview\, 1400 Milwaukee Ave\, Glenview\, IL\, 60026\, United States
ORGANIZER;CN="Madeleine Monaco":MAILTO:99mjm@sbcglobal.net
END:VEVENT
END:VCALENDAR