BEGIN:VCALENDAR
VERSION:2.0
PRODID:-//Chicago Executive Pilots Association - ECPv6.15.20//NONSGML v1.0//EN
CALSCALE:GREGORIAN
METHOD:PUBLISH
X-WR-CALNAME:Chicago Executive Pilots Association
X-ORIGINAL-URL:https://pwkpilots.org
X-WR-CALDESC:Events for Chicago Executive Pilots Association
REFRESH-INTERVAL;VALUE=DURATION:PT1H
X-Robots-Tag:noindex
X-PUBLISHED-TTL:PT1H
BEGIN:VTIMEZONE
TZID:America/Chicago
BEGIN:DAYLIGHT
TZOFFSETFROM:-0600
TZOFFSETTO:-0500
TZNAME:CDT
DTSTART:20230312T080000
END:DAYLIGHT
BEGIN:STANDARD
TZOFFSETFROM:-0500
TZOFFSETTO:-0600
TZNAME:CST
DTSTART:20231105T070000
END:STANDARD
BEGIN:DAYLIGHT
TZOFFSETFROM:-0600
TZOFFSETTO:-0500
TZNAME:CDT
DTSTART:20240310T080000
END:DAYLIGHT
BEGIN:STANDARD
TZOFFSETFROM:-0500
TZOFFSETTO:-0600
TZNAME:CST
DTSTART:20241103T070000
END:STANDARD
BEGIN:DAYLIGHT
TZOFFSETFROM:-0600
TZOFFSETTO:-0500
TZNAME:CDT
DTSTART:20250309T080000
END:DAYLIGHT
BEGIN:STANDARD
TZOFFSETFROM:-0500
TZOFFSETTO:-0600
TZNAME:CST
DTSTART:20251102T070000
END:STANDARD
END:VTIMEZONE
BEGIN:VEVENT
DTSTART;TZID=America/Chicago:20241023T190000
DTEND;TZID=America/Chicago:20241023T203000
DTSTAMP:20260423T200923
CREATED:20240314T204040Z
LAST-MODIFIED:20241012T052509Z
UID:5489-1729710000-1729715400@pwkpilots.org
SUMMARY:Sam Lasky\, PWK Tower Air Traffic Manager - Safety Meeting - October 2024
DESCRIPTION:Sam Lasky\, Air Traffic Manager at PWK Tower \nWhy the heck did he send me there? What does that mean? Yes\, they probably were talking about that last landing. \nYou want to know what is going on in the glass tower\, don’t you. Well Sam is the guy who can give you the inside insight. \nSpeaker: Sam Lasky\, Air Traffic Manager\, Chicago Executive ATCT \n \nSamuel Lasky became the Air Traffic Manager at Chicago Executive Air Traffic Control Tower (PWK ATCT) December\, 2022. He worked as a Certified Professional Controller at Evansville (EVV) and Chicago Executive ATCT\, and as an Operations Supervisor at Midway ATCT (MDW). In 2017\, he won the NAS First\, People Always Firefighter Award for his work in air traffic control simulation. \nBefore joining the FAA\, Lasky served in the U.S. Marine Corps as an Air Traffic Control Tower Supervisor at MCAS Beaufort\, South Carolina\, and deployed with Marine Air Traffic Control Mobile Team One (MMT-1) during Operation Enduring Freedom. \nHe values leadership and training as the keys to building strong teams. In his free time\, Sam enjoys BBQ and spending time with his family.
URL:https://pwkpilots.org/event/safety-meeting-october-2024/
LOCATION:Harper College\, 1375 S Wolf Road\, Prospect Heights\, IL\, 60070\, United States
CATEGORIES:Safety Meetings
END:VEVENT
END:VCALENDAR