BEGIN:VCALENDAR
VERSION:2.0
PRODID:-//Chicago Executive Pilots Association - ECPv6.15.20//NONSGML v1.0//EN
CALSCALE:GREGORIAN
METHOD:PUBLISH
X-WR-CALNAME:Chicago Executive Pilots Association
X-ORIGINAL-URL:https://pwkpilots.org
X-WR-CALDESC:Events for Chicago Executive Pilots Association
REFRESH-INTERVAL;VALUE=DURATION:PT1H
X-Robots-Tag:noindex
X-PUBLISHED-TTL:PT1H
BEGIN:VTIMEZONE
TZID:America/Chicago
BEGIN:DAYLIGHT
TZOFFSETFROM:-0600
TZOFFSETTO:-0500
TZNAME:CDT
DTSTART:20230312T080000
END:DAYLIGHT
BEGIN:STANDARD
TZOFFSETFROM:-0500
TZOFFSETTO:-0600
TZNAME:CST
DTSTART:20231105T070000
END:STANDARD
BEGIN:DAYLIGHT
TZOFFSETFROM:-0600
TZOFFSETTO:-0500
TZNAME:CDT
DTSTART:20240310T080000
END:DAYLIGHT
BEGIN:STANDARD
TZOFFSETFROM:-0500
TZOFFSETTO:-0600
TZNAME:CST
DTSTART:20241103T070000
END:STANDARD
BEGIN:DAYLIGHT
TZOFFSETFROM:-0600
TZOFFSETTO:-0500
TZNAME:CDT
DTSTART:20250309T080000
END:DAYLIGHT
BEGIN:STANDARD
TZOFFSETFROM:-0500
TZOFFSETTO:-0600
TZNAME:CST
DTSTART:20251102T070000
END:STANDARD
END:VTIMEZONE
BEGIN:VEVENT
DTSTART;TZID=America/Chicago:20240828T190000
DTEND;TZID=America/Chicago:20240828T203000
DTSTAMP:20260423T234032
CREATED:20240314T203516Z
LAST-MODIFIED:20240724T125742Z
UID:5485-1724871600-1724877000@pwkpilots.org
SUMMARY:Becoming an "Appropriately" Confident Pilot - Marc Epner - Safety Meeting - August 2024
DESCRIPTION:Pilots and their passengers want the PIC to be many things\, all contributing to a safe and enjoyable experience\, attributes that culminate in a confident pilot. However\, confidence can come from multiple sources\, some of which give a false sense of confidence. Join the discussion on being an appropriately confident pilot. \nSpeaker Bio: \nMarc Epner started his love affair with aviation when as a young boy. After earning his private pilot license in 1976\, he lost his medical in 1979.  He didn’t step back into a GA airplane for 25 years.  A chance flight in 2004 reminded him how much he loved flying and started him down a path of taking his skills to the next level. Today\, Marc has accumulated almost 2700 hours\, earned multiple ratings\, purchased a Cirrus SR22\, and co-founded Leading Edge Flying Club at Chicago Executive Airport. Marc shares his love of aviation with others via presentations\, discussions\, and his YouTube channel\, “PF Flying”
URL:https://pwkpilots.org/event/safety-meeting-august-2024/
LOCATION:Harper College\, 1375 S Wolf Road\, Prospect Heights\, IL\, 60070\, United States
CATEGORIES:Safety Meetings
END:VEVENT
END:VCALENDAR