BEGIN:VCALENDAR
VERSION:2.0
PRODID:-//Chicago Executive Pilots Association - ECPv6.15.20//NONSGML v1.0//EN
CALSCALE:GREGORIAN
METHOD:PUBLISH
X-WR-CALNAME:Chicago Executive Pilots Association
X-ORIGINAL-URL:https://pwkpilots.org
X-WR-CALDESC:Events for Chicago Executive Pilots Association
REFRESH-INTERVAL;VALUE=DURATION:PT1H
X-Robots-Tag:noindex
X-PUBLISHED-TTL:PT1H
BEGIN:VTIMEZONE
TZID:America/Chicago
BEGIN:DAYLIGHT
TZOFFSETFROM:-0600
TZOFFSETTO:-0500
TZNAME:CDT
DTSTART:20230312T080000
END:DAYLIGHT
BEGIN:STANDARD
TZOFFSETFROM:-0500
TZOFFSETTO:-0600
TZNAME:CST
DTSTART:20231105T070000
END:STANDARD
BEGIN:DAYLIGHT
TZOFFSETFROM:-0600
TZOFFSETTO:-0500
TZNAME:CDT
DTSTART:20240310T080000
END:DAYLIGHT
BEGIN:STANDARD
TZOFFSETFROM:-0500
TZOFFSETTO:-0600
TZNAME:CST
DTSTART:20241103T070000
END:STANDARD
BEGIN:DAYLIGHT
TZOFFSETFROM:-0600
TZOFFSETTO:-0500
TZNAME:CDT
DTSTART:20250309T080000
END:DAYLIGHT
BEGIN:STANDARD
TZOFFSETFROM:-0500
TZOFFSETTO:-0600
TZNAME:CST
DTSTART:20251102T070000
END:STANDARD
END:VTIMEZONE
BEGIN:VEVENT
DTSTART;TZID=America/Chicago:20240710T180000
DTEND;TZID=America/Chicago:20240710T200000
DTSTAMP:20260424T010352
CREATED:20240314T204432Z
LAST-MODIFIED:20240623T205828Z
UID:5493-1720634400-1720641600@pwkpilots.org
SUMMARY:Hangar Party - CEPA's Scholarships Presentation
DESCRIPTION:Annual Membership Appreciation Hangar Party\nAcademic and Flight Training Scholarship Presentations \n\nCEPA MEMBERS: free\nGUESTS – $10\n\n  \n 
URL:https://pwkpilots.org/event/safety-meeting-july-2024/
LOCATION:Chicago Executive Airport – Hangar 5\, 1115 S Wolf Rd\, Prospect Heights\, IL\, 60090\, United States
CATEGORIES:Safety Meetings
END:VEVENT
END:VCALENDAR