BEGIN:VCALENDAR
VERSION:2.0
PRODID:-//Chicago Executive Pilots Association - ECPv6.15.20//NONSGML v1.0//EN
CALSCALE:GREGORIAN
METHOD:PUBLISH
X-WR-CALNAME:Chicago Executive Pilots Association
X-ORIGINAL-URL:https://pwkpilots.org
X-WR-CALDESC:Events for Chicago Executive Pilots Association
REFRESH-INTERVAL;VALUE=DURATION:PT1H
X-Robots-Tag:noindex
X-PUBLISHED-TTL:PT1H
BEGIN:VTIMEZONE
TZID:America/Chicago
BEGIN:DAYLIGHT
TZOFFSETFROM:-0600
TZOFFSETTO:-0500
TZNAME:CDT
DTSTART:20230312T080000
END:DAYLIGHT
BEGIN:STANDARD
TZOFFSETFROM:-0500
TZOFFSETTO:-0600
TZNAME:CST
DTSTART:20231105T070000
END:STANDARD
BEGIN:DAYLIGHT
TZOFFSETFROM:-0600
TZOFFSETTO:-0500
TZNAME:CDT
DTSTART:20240310T080000
END:DAYLIGHT
BEGIN:STANDARD
TZOFFSETFROM:-0500
TZOFFSETTO:-0600
TZNAME:CST
DTSTART:20241103T070000
END:STANDARD
BEGIN:DAYLIGHT
TZOFFSETFROM:-0600
TZOFFSETTO:-0500
TZNAME:CDT
DTSTART:20250309T080000
END:DAYLIGHT
BEGIN:STANDARD
TZOFFSETFROM:-0500
TZOFFSETTO:-0600
TZNAME:CST
DTSTART:20251102T070000
END:STANDARD
END:VTIMEZONE
BEGIN:VEVENT
DTSTART;TZID=America/Chicago:20240626T190000
DTEND;TZID=America/Chicago:20240626T203000
DTSTAMP:20260424T024715
CREATED:20240314T203314Z
LAST-MODIFIED:20240622T115953Z
UID:5483-1719428400-1719433800@pwkpilots.org
SUMMARY:Double Header: Chicago's Role in Airline and Updates to the FAA You Should Know - Safety Meeting - June 2024
DESCRIPTION:Chicago’s Role in the Structure of the Airline Industry\nSpeaker: Mike Haupt \nToday\, Chicago is best known for being a hub through which countless passengers endure excruciating plane changes as well as O’Hare’s ability to completely disrupt nationwide air service. This program uncovers the critical role Chicago played in forming the airline industry not just for the United States but worldwide. Discover how rudimentary air mail carriers developed and morphed into the airlines we know today. See how Chicago became the center of the air mail system both for connecting routes and for technologies crucial to safe\, long-distance\, regular flights across our vast nation. Learn the role Chicago played in creating the safety-first regulatory environment that provided the general public with confidence in flying. Witness Chicago’s pivotal role in airline labor relations which has remained a significant factor in airline operations into the present. See how Chicago’s influence expanded beyond national borders to establish standards worldwide. \nMichael Haupt\, has spent decades exploring the extent of aviation activity in and around Chicago\, especially in the early part of the 20th Century. His book\, Aviation Chicago Timeline\, is a product of his insatiable curiosity and research coupled with a fastidious attention to detail. The result is a well-written\, fascinating history revealing many events which have been otherwise forgotten. Many regard it as the definitive history of aviation activities in Chicago and the surrounding region. Mike is a CEPA Member and well-respected presenter throughout the area. \nFAA Changes That You Should Know\nThe enactment of the FAA Reauthorization Act of 2024 and updates and new Airman Certification Standards (ACS) have taken place and that affects us as pilots. We’ll cover the highlights of what these changes may mean to you. \nRegister for WINGS credit here.
URL:https://pwkpilots.org/event/safety-meeting-june-2024/
LOCATION:Harper College\, 1375 S Wolf Road\, Prospect Heights\, IL\, 60070\, United States
CATEGORIES:Safety Meetings
END:VEVENT
END:VCALENDAR