BEGIN:VCALENDAR
VERSION:2.0
PRODID:-//Chicago Executive Pilots Association - ECPv6.15.20//NONSGML v1.0//EN
CALSCALE:GREGORIAN
METHOD:PUBLISH
X-ORIGINAL-URL:https://pwkpilots.org
X-WR-CALDESC:Events for Chicago Executive Pilots Association
REFRESH-INTERVAL;VALUE=DURATION:PT1H
X-Robots-Tag:noindex
X-PUBLISHED-TTL:PT1H
BEGIN:VTIMEZONE
TZID:America/Chicago
BEGIN:DAYLIGHT
TZOFFSETFROM:-0600
TZOFFSETTO:-0500
TZNAME:CDT
DTSTART:20230312T080000
END:DAYLIGHT
BEGIN:STANDARD
TZOFFSETFROM:-0500
TZOFFSETTO:-0600
TZNAME:CST
DTSTART:20231105T070000
END:STANDARD
BEGIN:DAYLIGHT
TZOFFSETFROM:-0600
TZOFFSETTO:-0500
TZNAME:CDT
DTSTART:20240310T080000
END:DAYLIGHT
BEGIN:STANDARD
TZOFFSETFROM:-0500
TZOFFSETTO:-0600
TZNAME:CST
DTSTART:20241103T070000
END:STANDARD
BEGIN:DAYLIGHT
TZOFFSETFROM:-0600
TZOFFSETTO:-0500
TZNAME:CDT
DTSTART:20250309T080000
END:DAYLIGHT
BEGIN:STANDARD
TZOFFSETFROM:-0500
TZOFFSETTO:-0600
TZNAME:CST
DTSTART:20251102T070000
END:STANDARD
END:VTIMEZONE
BEGIN:VEVENT
DTSTART;TZID=America/Chicago:20240522T190000
DTEND;TZID=America/Chicago:20240522T190000
DTSTAMP:20260424T040833
CREATED:20240520T181346Z
LAST-MODIFIED:20240520T185129Z
UID:5569-1716404400-1716404400@pwkpilots.org
SUMMARY:Juliet\, Juliet\, Where Art Thou ATC? Michael Baraz Squawks 7600 - CEPA Safety Seminar at PWK
DESCRIPTION:It was supposed to be an easy training flight… until it wasn’t! \nMost of our training treats emergencies as an all-or-nothing event. That isn’t how they typically unfold. It is usually something small you notice. Then something else happens… and there may not be any obvious reason to connect the two. Then a third… now things are getting “interesting.” \nTrying to check in with Chicago Approach\, we had Juliet but got nothing back :O \nAs things start to fall apart\, what do you do and when? \n \nSpeaker Bio \nMichael Baraz is ATP-rated and holds CFI and CFII certificates. He is an FAASafety Team Lead Representative helping people stay current and proficient by encouraging continuous training with WINGS achievements. Michael has owned two Mooneys\, currently has a Rocket 305\, and enjoys flying all kinds of planes. He is a member of various flying clubs and pilot associations around Chicago and is currently the president of CEPA. 
URL:https://pwkpilots.org/event/safety-meeting-may-2024/
LOCATION:Harper College\, 1375 S Wolf Road\, Prospect Heights\, IL\, 60070\, United States
ORGANIZER;CN="Michael Baraz":MAILTO:Michael@Baraz.us
END:VEVENT
END:VCALENDAR