BEGIN:VCALENDAR
VERSION:2.0
PRODID:-//Chicago Executive Pilots Association - ECPv6.15.20//NONSGML v1.0//EN
CALSCALE:GREGORIAN
METHOD:PUBLISH
X-ORIGINAL-URL:https://pwkpilots.org
X-WR-CALDESC:Events for Chicago Executive Pilots Association
REFRESH-INTERVAL;VALUE=DURATION:PT1H
X-Robots-Tag:noindex
X-PUBLISHED-TTL:PT1H
BEGIN:VTIMEZONE
TZID:America/Chicago
BEGIN:DAYLIGHT
TZOFFSETFROM:-0600
TZOFFSETTO:-0500
TZNAME:CDT
DTSTART:20230312T080000
END:DAYLIGHT
BEGIN:STANDARD
TZOFFSETFROM:-0500
TZOFFSETTO:-0600
TZNAME:CST
DTSTART:20231105T070000
END:STANDARD
BEGIN:DAYLIGHT
TZOFFSETFROM:-0600
TZOFFSETTO:-0500
TZNAME:CDT
DTSTART:20240310T080000
END:DAYLIGHT
BEGIN:STANDARD
TZOFFSETFROM:-0500
TZOFFSETTO:-0600
TZNAME:CST
DTSTART:20241103T070000
END:STANDARD
BEGIN:DAYLIGHT
TZOFFSETFROM:-0600
TZOFFSETTO:-0500
TZNAME:CDT
DTSTART:20250309T080000
END:DAYLIGHT
BEGIN:STANDARD
TZOFFSETFROM:-0500
TZOFFSETTO:-0600
TZNAME:CST
DTSTART:20251102T070000
END:STANDARD
END:VTIMEZONE
BEGIN:VEVENT
DTSTART;TZID=America/Chicago:20240424T190000
DTEND;TZID=America/Chicago:20240424T203000
DTSTAMP:20260424T053914
CREATED:20240314T202809Z
LAST-MODIFIED:20240423T152029Z
UID:5479-1713985200-1713990600@pwkpilots.org
SUMMARY:Spring Weather Hazards and Crosswind - CEPA Safety Meeting - April 2024
DESCRIPTION:Topic: Spring Weather Hazards\, Crosswinds\, and Flying\nSpeaker: Dave Klopfleisch \nWith Spring blooming all around\, let’s not forget the winds and weather. Student pilots\, VFR\, and IFR pilots will all learn some helpful tips. Flying safely is Dave’s mission. \nSpeaker bio:  \nFor more than 40 years as a flight instructor and 30 years at Chicago Executive Flight School\, Dave Klopfleisch has helped hundreds of students learn the art of flying. Dave earned his pilot license while in high school.  \nDave served in the Navy and flew in the TA-4 single-engine attack jet. After the Navy\, he was an auto mechanic and race car driver. Luckily for us\, he found his way back to aviation!  \nFor his dedication and experience in aviation\, Dave was awarded the “Wright Brothers Master Pilot Award” in 2022 to mark 50 years of safe flying. “The most rewarding part of my career has been using my experience to teach future pilots how to not only fly a plane but how to fly safely\,” he said.
URL:https://pwkpilots.org/event/safety-meeting-april-2024/
LOCATION:Harper College\, 1375 S Wolf Road\, Prospect Heights\, IL\, 60070\, United States
CATEGORIES:Safety Meetings
END:VEVENT
END:VCALENDAR