BEGIN:VCALENDAR
VERSION:2.0
PRODID:-//Chicago Executive Pilots Association - ECPv6.15.20//NONSGML v1.0//EN
CALSCALE:GREGORIAN
METHOD:PUBLISH
X-ORIGINAL-URL:https://pwkpilots.org
X-WR-CALDESC:Events for Chicago Executive Pilots Association
REFRESH-INTERVAL;VALUE=DURATION:PT1H
X-Robots-Tag:noindex
X-PUBLISHED-TTL:PT1H
BEGIN:VTIMEZONE
TZID:America/Chicago
BEGIN:DAYLIGHT
TZOFFSETFROM:-0600
TZOFFSETTO:-0500
TZNAME:CDT
DTSTART:20240310T080000
END:DAYLIGHT
BEGIN:STANDARD
TZOFFSETFROM:-0500
TZOFFSETTO:-0600
TZNAME:CST
DTSTART:20241103T070000
END:STANDARD
BEGIN:DAYLIGHT
TZOFFSETFROM:-0600
TZOFFSETTO:-0500
TZNAME:CDT
DTSTART:20250309T080000
END:DAYLIGHT
BEGIN:STANDARD
TZOFFSETFROM:-0500
TZOFFSETTO:-0600
TZNAME:CST
DTSTART:20251102T070000
END:STANDARD
BEGIN:DAYLIGHT
TZOFFSETFROM:-0600
TZOFFSETTO:-0500
TZNAME:CDT
DTSTART:20260308T080000
END:DAYLIGHT
BEGIN:STANDARD
TZOFFSETFROM:-0500
TZOFFSETTO:-0600
TZNAME:CST
DTSTART:20261101T070000
END:STANDARD
BEGIN:DAYLIGHT
TZOFFSETFROM:-0600
TZOFFSETTO:-0500
TZNAME:CDT
DTSTART:20270314T080000
END:DAYLIGHT
BEGIN:STANDARD
TZOFFSETFROM:-0500
TZOFFSETTO:-0600
TZNAME:CST
DTSTART:20271107T070000
END:STANDARD
END:VTIMEZONE
BEGIN:VEVENT
DTSTART;TZID=America/Chicago:20251112T190000
DTEND;TZID=America/Chicago:20251112T203000
DTSTAMP:20260425T083327
CREATED:20250225T015615Z
LAST-MODIFIED:20251031T013403Z
UID:6049-1762974000-1762979400@pwkpilots.org
SUMMARY:CEPA Election\, Annual Meeting & November Safety Meeting
DESCRIPTION:Evening topics: \n\nCEPA Director’s Election\nAnnual Meeting\nNovember Safety Meeting: Ice and Aspects of Winter Operations\n\nSpeaker:\nLou Wipotnik\, Master CFI\, CFII\, MEI\, has earned his Master CFI designation for the 10th time and was the 1996 National CFI of the Year. Holding the Master CFI designation continuously since 1998\, Lou was granted Master Instructor Emeritus (MIE) status in 2016\, following his induction into the Illinois Aviation Hall of Fame. This recognition was given in appreciation of his many years of commitment to excellence\, professional growth\, service to the aviation community\, and quality aviation education. He has taught for several distinctive flying schools during his aviation career and has logged over 15\,000 hours as PIC in over 60 years as a pilot. Lou also served in the Civil Air Patrol\, flies Young Eagles\, and is a recipient of the distinguished FAA Wright Brothers Master Pilot Award.
URL:https://pwkpilots.org/event/cepa-election-annual-meeting-safety-meeting-2025/
LOCATION:Harper College\, 1375 S Wolf Road\, Prospect Heights\, IL\, 60070\, United States
CATEGORIES:Safety Meetings
ORGANIZER;CN="Michael Baraz":MAILTO:Michael@Baraz.us
END:VEVENT
BEGIN:VEVENT
DTSTART;TZID=America/Chicago:20260128T190000
DTEND;TZID=America/Chicago:20260128T203000
DTSTAMP:20260425T083327
CREATED:20260101T192155Z
LAST-MODIFIED:20260106T154220Z
UID:6486-1769626800-1769632200@pwkpilots.org
SUMMARY:7 Times Lucky - How to Survive a Low-Altitude Engine Failure (Hopefully)
DESCRIPTION:Join CFI Daniel Feldman for an exploration of low-altitude engine failures and the lessons he has learned after seven of them. \n  \nSpeaker Bio: \nDaniel Feldman is a CFI Sport with more than 3\,500 hours of dual given and over 5\,000 total flight hours. He is the owner of Foxtrot Aero\, which specializes in light sport instruction in both fixed-wing and gyroplanes with a focus on vintage and experimental aircraft. \n \n 
URL:https://pwkpilots.org/event/202601-7-times-lucky-how-to-survive-a-low-altitude-engine-failure/
LOCATION:Harper College\, 1375 S Wolf Road\, Prospect Heights\, IL\, 60070\, United States
CATEGORIES:Safety Meetings
ORGANIZER;CN="Michael Baraz":MAILTO:Michael@Baraz.us
END:VEVENT
BEGIN:VEVENT
DTSTART;TZID=America/Chicago:20260225T190000
DTEND;TZID=America/Chicago:20260225T203000
DTSTAMP:20260425T083327
CREATED:20260106T152422Z
LAST-MODIFIED:20260223T213753Z
UID:6497-1772046000-1772051400@pwkpilots.org
SUMMARY:Flight Following Or Go Rogue?
DESCRIPTION:You take off for your VFR one-hour cross-country. You’re about to head into a TRSA\, so you call for flight following. It’s crazy hot and bumpy\, so you tell them your destination\, and you are climbing to 8\,500 feet. Unfortunately\, that’s not what ATC has in mind. They say maintain at or below 3000′.  Whoa! What do you do? \nSpeaker Bio: \n \nMichael Baraz holds ATP\, CFI\, CFII\, AGI\, and IGI certificates. He is an active flight instructor and FAA Safety Lead Team Representative. He loves helping people achieve their flying goals and staying safe\, current\, and proficient through continuous training with WINGS credits. Michael flies a Mooney Rocket 305 (because life is too short to fly slow). He is a member of several flying clubs and pilot associations in the Chicago area and is the treasurer and past president of CEPA. \n \n 
URL:https://pwkpilots.org/event/202602-flight-following-or-go-rogue/
LOCATION:Harper College\, 1375 S Wolf Road\, Prospect Heights\, IL\, 60070\, United States
CATEGORIES:Safety Meetings
ORGANIZER;CN="Michael Baraz":MAILTO:Michael@Baraz.us
END:VEVENT
BEGIN:VEVENT
DTSTART;TZID=America/Chicago:20260422T190000
DTEND;TZID=America/Chicago:20260422T203000
DTSTAMP:20260425T083327
CREATED:20260219T004754Z
LAST-MODIFIED:20260410T014057Z
UID:6626-1776884400-1776889800@pwkpilots.org
SUMMARY:Situational Awareness: How Good Pilots Lose It\, and Get It Back - Penny Levin\, PhD\, CFI
DESCRIPTION:Join Penny Levin\, PhD\, CFI\, for Situational Awareness in Single-Pilot Flying: How Good Pilots Lose It\, and Get It Back. This practical program for general aviation pilots will explore how distraction\, workload\, routine\, and cockpit screens can erode situational awareness in small airplanes\, and what pilots can do to recognize the signs early\, stay ahead of the airplane\, and fly more safely. \nSpeaker Bio: \n \nDr. Penny Levin has combined her two professional passions-psychology and aviation. She presents on flight instruction\, flight safety\, and pilot mental health. She is a member of the Olympic Mental Health Registry. A longtime member of the Civil Air Patrol. Dr. Penny has flown as an instructor\, a mission pilot\, and a mission pilot instructor\, and as the Pennsylvania Wing Assistant Director of Safety\, responsible for creating an innovative aircrew safety seminar series. She is an instructor in the AOPA Flight Instructor Refresher Course
URL:https://pwkpilots.org/event/202604-situational-awareness-single-pilot-flying/
LOCATION:Harper College\, 1375 S Wolf Road\, Prospect Heights\, IL\, 60070\, United States
CATEGORIES:Safety Meetings
ORGANIZER;CN="Michael Baraz":MAILTO:Michael@Baraz.us
END:VEVENT
END:VCALENDAR