BEGIN:VCALENDAR
VERSION:2.0
PRODID:-//Chicago Executive Pilots Association - ECPv6.15.20//NONSGML v1.0//EN
CALSCALE:GREGORIAN
METHOD:PUBLISH
X-WR-CALNAME:Chicago Executive Pilots Association
X-ORIGINAL-URL:https://pwkpilots.org
X-WR-CALDESC:Events for Chicago Executive Pilots Association
REFRESH-INTERVAL;VALUE=DURATION:PT1H
X-Robots-Tag:noindex
X-PUBLISHED-TTL:PT1H
BEGIN:VTIMEZONE
TZID:America/Chicago
BEGIN:DAYLIGHT
TZOFFSETFROM:-0600
TZOFFSETTO:-0500
TZNAME:CDT
DTSTART:20180311T080000
END:DAYLIGHT
BEGIN:STANDARD
TZOFFSETFROM:-0500
TZOFFSETTO:-0600
TZNAME:CST
DTSTART:20181104T070000
END:STANDARD
BEGIN:DAYLIGHT
TZOFFSETFROM:-0600
TZOFFSETTO:-0500
TZNAME:CDT
DTSTART:20190310T080000
END:DAYLIGHT
BEGIN:STANDARD
TZOFFSETFROM:-0500
TZOFFSETTO:-0600
TZNAME:CST
DTSTART:20191103T070000
END:STANDARD
BEGIN:DAYLIGHT
TZOFFSETFROM:-0600
TZOFFSETTO:-0500
TZNAME:CDT
DTSTART:20200308T080000
END:DAYLIGHT
BEGIN:STANDARD
TZOFFSETFROM:-0500
TZOFFSETTO:-0600
TZNAME:CST
DTSTART:20201101T070000
END:STANDARD
BEGIN:DAYLIGHT
TZOFFSETFROM:-0600
TZOFFSETTO:-0500
TZNAME:CDT
DTSTART:20210314T080000
END:DAYLIGHT
BEGIN:STANDARD
TZOFFSETFROM:-0500
TZOFFSETTO:-0600
TZNAME:CST
DTSTART:20211107T070000
END:STANDARD
BEGIN:DAYLIGHT
TZOFFSETFROM:-0600
TZOFFSETTO:-0500
TZNAME:CDT
DTSTART:20220313T080000
END:DAYLIGHT
BEGIN:STANDARD
TZOFFSETFROM:-0500
TZOFFSETTO:-0600
TZNAME:CST
DTSTART:20221106T070000
END:STANDARD
END:VTIMEZONE
BEGIN:VEVENT
DTSTART;TZID=America/Chicago:20211110T190000
DTEND;TZID=America/Chicago:20211110T210000
DTSTAMP:20260424T064306
CREATED:20211003T005655Z
LAST-MODIFIED:20211030T094106Z
UID:4186-1636570800-1636578000@pwkpilots.org
SUMMARY:ELECTION OF DIRECTORS
DESCRIPTION:Our CEPA by-laws call for 2 year terms for our 4 Officers and 1 year terms for 5 Directors. This November\, you will be asked to vote for 5 Directors to continue the organization’s work.\nThe Nominating Committee published their request for members willing to serve in the September\, 2021\, newsletter. The slate has been prepared and will be presented to the Board at the October 4th meeting. The approved slate will be sent to every voting member via email\, in the November newsletter\, and ballots will be accepted and counted at the Annual Meeting on November 10th. Ballot will be sent to all members at least 10 days prior to the Annual Meeting. Meeting will take place at Ramada Plaza Hotel 7:00 pm\nOur appreciation to those who have agreed to serve our organization for the coming year.\nThank you\,\nThe Nominating Committee\nRogers Faden\, Chairman\nRob Mark and Jason Simpson\, committee members
URL:https://pwkpilots.org/event/election-of-directors/
LOCATION:Signature Hangar 19
CATEGORIES:Organization
END:VEVENT
BEGIN:VEVENT
DTSTART;TZID=America/Chicago:20211110T183000
DTEND;TZID=America/Chicago:20211110T193000
DTSTAMP:20260424T064306
CREATED:20211105T004334Z
LAST-MODIFIED:20211105T004334Z
UID:4274-1636569000-1636572600@pwkpilots.org
SUMMARY:CEPA VMC Club - November 2021
DESCRIPTION:VMC Club Monthly Meeting at PWK – Michael Baraz – Snow Everywhere! – CEPA annual business meeting\nTopic: Getting low on fuel and nowhere to land! What would you do?\n\nIt’s a beautiful winter day and you have set off on a short cross country trip. You planned a fuel stop and alternates but NOTAM’s were not issued where they should have been. You’re in the air\, unable to land and getting low on fuel\, what would you do? \nIn this month’s IMC Club meeting\, we will be discussing PIC decision making\, situational awareness and cross country planning. \nAttendees are welcome and encourages to attend the annual CEPA business meeting which will take place after the VMC club. The meeting will include a presentation from local PWK Operations coordinator Norm Mackey and we will also have a chance to meet and welcome in the new PWK airport director Jeff Miller. \nSpeaker bio: Michael Baraz is an accomplished pilot holding an Airline Transport Pilot rating\, MEL and most recently\, his CFI. Michael also founded a STEM Aviation program at Lindbloom Math and Science Academy. He flies Angel flights and Pilots ‘n’ Paws missions regularly in his own Mooney M20k. As most of you already know\, Michael is also the President of the Chicago Executive Pilots Association. \n\nFor FAASafety WINGS credits\, complete the online meeting attendance form; the meeting code will be provided at the end of each of the meetings. \nTo attend meeting\, go to https://join.freeconferencecall.com/pwkpilots\nOnline meeting ID: pwkpilots\nDial-in number (US): (720) 740-9630\nAccess code: 119900* \nSponsored by Chicago Executive Pilots Association (CEPA). \nIf you aren’t a member of CEPA and enjoy programs like this please consider joining CEPA; visit us at www.PWKpilots.org/membership/  Your dues help pay for these safety seminars.
URL:https://pwkpilots.org/event/cepa-vmc-club-november-2021/
CATEGORIES:Organization,Safety Meetings
ATTACH;FMTTYPE=image/png:https://pwkpilots.org/wp-content/uploads/2019/11/CEPA-IMCClub.png
ORGANIZER;CN="Barry Moore":MAILTO:barry_dxb@yahoo.com
END:VEVENT
BEGIN:VEVENT
DTSTART;TZID=America/Chicago:20201102T190000
DTEND;TZID=America/Chicago:20201102T203000
DTSTAMP:20260424T064306
CREATED:20200103T062944Z
LAST-MODIFIED:20200103T062944Z
UID:3158-1604343600-1604349000@pwkpilots.org
SUMMARY:CEPA November Board Meeting
DESCRIPTION:The Chicago Executive Pilots Association (CEPA) Board of Directors meets to discuss the business of the PAPA Scholarship and pilots association organizations. \nThank you\, Mike Kurgan\, General Manager\, Atlantic Aviation\, for providing us your board room. 
URL:https://pwkpilots.org/event/board-meeting-202011/
LOCATION:Atlantic Aviation PWK\, 1011 S Wolf Road\, Wheeling\, IL\, 60090\, United States
CATEGORIES:Organization
END:VEVENT
BEGIN:VEVENT
DTSTART;TZID=America/Chicago:20201005T190000
DTEND;TZID=America/Chicago:20201005T203000
DTSTAMP:20260424T064306
CREATED:20200103T062741Z
LAST-MODIFIED:20200103T062741Z
UID:3156-1601924400-1601929800@pwkpilots.org
SUMMARY:CEPA October Board Meeting
DESCRIPTION:The Chicago Executive Pilots Association (CEPA) Board of Directors meets to discuss the business of the PAPA Scholarship and pilots association organizations. \nThank you\, Mike Kurgan\, General Manager\, Atlantic Aviation\, for providing us your board room. 
URL:https://pwkpilots.org/event/board-meeting-202010/
LOCATION:Atlantic Aviation PWK\, 1011 S Wolf Road\, Wheeling\, IL\, 60090\, United States
CATEGORIES:Organization
END:VEVENT
BEGIN:VEVENT
DTSTART;TZID=America/Chicago:20200908T190000
DTEND;TZID=America/Chicago:20200908T203000
DTSTAMP:20260424T064306
CREATED:20200103T062457Z
LAST-MODIFIED:20200103T062457Z
UID:3154-1599591600-1599597000@pwkpilots.org
SUMMARY:CEPA September Board Meeting
DESCRIPTION:The Chicago Executive Pilots Association (CEPA) Board of Directors meets to discuss the business of the PAPA Scholarship and pilots association organizations. \nThank you\, Mike Kurgan\, General Manager\, Atlantic Aviation\, for providing us your board room. 
URL:https://pwkpilots.org/event/board-meeting-202009/
LOCATION:Atlantic Aviation PWK\, 1011 S Wolf Road\, Wheeling\, IL\, 60090\, United States
CATEGORIES:Organization
END:VEVENT
BEGIN:VEVENT
DTSTART;TZID=America/Chicago:20200803T190000
DTEND;TZID=America/Chicago:20200803T203000
DTSTAMP:20260424T064306
CREATED:20200103T062237Z
LAST-MODIFIED:20200103T062237Z
UID:3152-1596481200-1596486600@pwkpilots.org
SUMMARY:CEPA August Board Meeting
DESCRIPTION:The Chicago Executive Pilots Association (CEPA) Board of Directors meets to discuss the business of the PAPA Scholarship and pilots association organizations. \nThank you\, Mike Kurgan\, General Manager\, Atlantic Aviation\, for providing us your board room. 
URL:https://pwkpilots.org/event/board-meeting-202008/
LOCATION:Atlantic Aviation PWK\, 1011 S Wolf Road\, Wheeling\, IL\, 60090\, United States
CATEGORIES:Organization
END:VEVENT
BEGIN:VEVENT
DTSTART;TZID=America/Chicago:20200706T190000
DTEND;TZID=America/Chicago:20200706T203000
DTSTAMP:20260424T064306
CREATED:20200103T062058Z
LAST-MODIFIED:20200103T062058Z
UID:3150-1594062000-1594067400@pwkpilots.org
SUMMARY:CEPA July Board Meeting
DESCRIPTION:The Chicago Executive Pilots Association (CEPA) Board of Directors meets to discuss the business of the PAPA Scholarship and pilots association organizations. \nThank you\, Mike Kurgan\, General Manager\, Atlantic Aviation\, for providing us your board room. 
URL:https://pwkpilots.org/event/board-meeting-202007/
LOCATION:Atlantic Aviation PWK\, 1011 S Wolf Road\, Wheeling\, IL\, 60090\, United States
CATEGORIES:Organization
END:VEVENT
BEGIN:VEVENT
DTSTART;TZID=America/Chicago:20200601T190000
DTEND;TZID=America/Chicago:20200601T203000
DTSTAMP:20260424T064306
CREATED:20200103T061808Z
LAST-MODIFIED:20200531T214208Z
UID:3148-1591038000-1591043400@pwkpilots.org
SUMMARY:CEPA June Board Meeting
DESCRIPTION:The Chicago Executive Pilots Association (CEPA) Board of Directors meets to discuss the business of the PAPA Scholarship and pilots association organizations. \nThank you\, Mike Kurgan\, General Manager\, Atlantic Aviation\, for providing us your board room. 
URL:https://pwkpilots.org/event/board-meeting-202006/
LOCATION:Atlantic Aviation PWK\, 1011 S Wolf Road\, Wheeling\, IL\, 60090\, United States
CATEGORIES:Organization
END:VEVENT
BEGIN:VEVENT
DTSTART;TZID=America/Chicago:20200504T190000
DTEND;TZID=America/Chicago:20200504T203000
DTSTAMP:20260424T064306
CREATED:20200103T061637Z
LAST-MODIFIED:20200103T061637Z
UID:3146-1588618800-1588624200@pwkpilots.org
SUMMARY:CEPA May Board Meeting
DESCRIPTION:The Chicago Executive Pilots Association (CEPA) Board of Directors meets to discuss the business of the PAPA Scholarship and pilots association organizations. \nThank you\, Mike Kurgan\, General Manager\, Atlantic Aviation\, for providing us your board room. 
URL:https://pwkpilots.org/event/board-meeting-202005/
LOCATION:Atlantic Aviation PWK\, 1011 S Wolf Road\, Wheeling\, IL\, 60090\, United States
CATEGORIES:Organization
END:VEVENT
BEGIN:VEVENT
DTSTART;TZID=America/Chicago:20200406T190000
DTEND;TZID=America/Chicago:20200406T203000
DTSTAMP:20260424T064306
CREATED:20200103T061102Z
LAST-MODIFIED:20200103T061102Z
UID:3143-1586199600-1586205000@pwkpilots.org
SUMMARY:CEPA April Board Meeting
DESCRIPTION:The Chicago Executive Pilots Association (CEPA) Board of Directors meets to discuss the business of the PAPA Scholarship and pilots association organizations. \nThank you\, Mike Kurgan\, General Manager\, Atlantic Aviation\, for providing us your board room. 
URL:https://pwkpilots.org/event/board-meeting-202004/
LOCATION:Atlantic Aviation PWK\, 1011 S Wolf Road\, Wheeling\, IL\, 60090\, United States
CATEGORIES:Organization
END:VEVENT
BEGIN:VEVENT
DTSTART;TZID=America/Chicago:20200302T190000
DTEND;TZID=America/Chicago:20200302T203000
DTSTAMP:20260424T064306
CREATED:20200103T060831Z
LAST-MODIFIED:20200103T061458Z
UID:3141-1583175600-1583181000@pwkpilots.org
SUMMARY:CEPA March Board Meeting
DESCRIPTION:The Chicago Executive Pilots Association (CEPA) Board of Directors meets to discuss the business of the PAPA Scholarship and pilots association organizations. \nThank you\, Mike Kurgan\, General Manager\, Atlantic Aviation\, for providing us your board room. 
URL:https://pwkpilots.org/event/board-meeting-202003/
LOCATION:Atlantic Aviation PWK\, 1011 S Wolf Road\, Wheeling\, IL\, 60090\, United States
CATEGORIES:Organization
END:VEVENT
BEGIN:VEVENT
DTSTART;TZID=America/Chicago:20200203T190000
DTEND;TZID=America/Chicago:20200203T203000
DTSTAMP:20260424T064306
CREATED:20200103T060535Z
LAST-MODIFIED:20200103T061405Z
UID:3138-1580756400-1580761800@pwkpilots.org
SUMMARY:CEPA February Board Meeting
DESCRIPTION:The Chicago Executive Pilots Association (CEPA) Board of Directors meets to discuss the business of the PAPA Scholarship and pilots association organizations. \nThank you\, Mike Kurgan\, General Manager\, Atlantic Aviation\, for providing us your board room. 
URL:https://pwkpilots.org/event/board-meeting-202002/
LOCATION:Atlantic Aviation PWK\, 1011 S Wolf Road\, Wheeling\, IL\, 60090\, United States
CATEGORIES:Organization
END:VEVENT
BEGIN:VEVENT
DTSTART;TZID=America/Chicago:20191127T190000
DTEND;TZID=America/Chicago:20191127T203000
DTSTAMP:20260424T064306
CREATED:20191029T035725Z
LAST-MODIFIED:20191104T160848Z
UID:2928-1574881200-1574886600@pwkpilots.org
SUMMARY:Annual CEPA Meeting for Members
DESCRIPTION:All CEPA members\, please attend our annual organization meeting. Election results will be announced. \nAnd for our featured event\, we will have a report from Jamie Abbott\, Executive Director of Chicago Executive Airport tell us the State of the Airport. \nCome hear what’s going on at the airport. \nFor members only. Not a member? Click here! \n 
URL:https://pwkpilots.org/event/annual-meeting/
LOCATION:Ramada Plaza\, 1090 S Milwaukee Avenue\, Wheeling\, IL\, 60090\, United States
CATEGORIES:Organization
END:VEVENT
END:VCALENDAR